BEGIN:VCALENDAR
VERSION:2.0
PRODID:-//Houses of Honor - ECPv6.15.20//NONSGML v1.0//EN
CALSCALE:GREGORIAN
METHOD:PUBLISH
X-WR-CALNAME:Houses of Honor
X-ORIGINAL-URL:https://housesofhonor.com
X-WR-CALDESC:Events for Houses of Honor
REFRESH-INTERVAL;VALUE=DURATION:PT1H
X-Robots-Tag:noindex
X-PUBLISHED-TTL:PT1H
BEGIN:VTIMEZONE
TZID:America/Chicago
BEGIN:DAYLIGHT
TZOFFSETFROM:-0600
TZOFFSETTO:-0500
TZNAME:CDT
DTSTART:20250309T080000
END:DAYLIGHT
BEGIN:STANDARD
TZOFFSETFROM:-0500
TZOFFSETTO:-0600
TZNAME:CST
DTSTART:20251102T070000
END:STANDARD
BEGIN:DAYLIGHT
TZOFFSETFROM:-0600
TZOFFSETTO:-0500
TZNAME:CDT
DTSTART:20260308T080000
END:DAYLIGHT
BEGIN:STANDARD
TZOFFSETFROM:-0500
TZOFFSETTO:-0600
TZNAME:CST
DTSTART:20261101T070000
END:STANDARD
BEGIN:DAYLIGHT
TZOFFSETFROM:-0600
TZOFFSETTO:-0500
TZNAME:CDT
DTSTART:20270314T080000
END:DAYLIGHT
BEGIN:STANDARD
TZOFFSETFROM:-0500
TZOFFSETTO:-0600
TZNAME:CST
DTSTART:20271107T070000
END:STANDARD
END:VTIMEZONE
BEGIN:VEVENT
DTSTART;TZID=America/Chicago:20260513T110000
DTEND;TZID=America/Chicago:20260513T130000
DTSTAMP:20260423T123659
CREATED:20260324T194853Z
LAST-MODIFIED:20260324T194853Z
UID:651-1778670000-1778677200@housesofhonor.com
SUMMARY:Brown County Veteran Round Table
DESCRIPTION:Joint meeting with Fox Valley Veteran Round Table Mid Vallee Golf Course 11am-1pm  Must register.  Eventbrite link to come
URL:https://housesofhonor.com/events-calendar/brown-county-veteran-round-table/
LOCATION:Mid Vallee Golf Course\, 3850 Mid Valley Dr\, De Pere\, WI\, 54115\, United States
END:VEVENT
END:VCALENDAR